BEGIN:VCALENDAR
VERSION:2.0
PRODID:Imitheme.com 
BEGIN:VEVENT
UID:20260424T0845172045654129
DTSTAMP;TZID=UTC:2026-04-24 08:45:17
DTSTART;TZID=America/Los_Angeles:20260424T084517
DTEND;TZID=America/Los_Angeles:20260424T084517
SUMMARY:Evening Service
LOCATION:
DESCRIPTION:
URL:https://homeoffaithchurch.org/eventer/evening-service/
END:VEVENT
END:VCALENDAR
